BEGIN:VCALENDAR
VERSION:2.0
PRODID:-//http://www.mairiedefumel.fr///NONSGML kigkonsult.se iCalcreator 2.10.15//
METHOD:PUBLISH
BEGIN:VEVENT
UID:20260420T212354CEST-39656UuOcU@http://www.mairiedefumel.fr/
DTSTAMP:20260420T192354Z
DESCRIPTION:au Centre d'Accueil municipal - 30 avenue Léon Blum à Fumel\nle
 s mardis de 18h à 20h\nhttps://lesamisdelasante-lotetgaronne.fr/ http://ww
 w.mairiedefumel.fr/votre-ville/agenda/event/823-permanence-les-amis-de-la-
 sante
DTSTART:20221102T180000Z
DTEND:20221102T200000Z
LOCATION:Centre d'Accueil Municipal (avenue Léon Blum 47500 FUMEL)
SUMMARY:Permanence Les Amis de la Santé
URL:http://www.mairiedefumel.fr/votre-ville/agenda/event/823-permanence-les
 -amis-de-la-sante
END:VEVENT
END:VCALENDAR
