BEGIN:VCALENDAR
VERSION:2.0
PRODID:-//http://www.mairiedefumel.fr///NONSGML kigkonsult.se iCalcreator 2.10.15//
METHOD:PUBLISH
BEGIN:VEVENT
UID:20260425T145618CEST-8520IAIuCi@http://www.mairiedefumel.fr/
DTSTAMP:20260425T125618Z
DESCRIPTION:Permanence des agents de la Direction Départementale des Financ
 es Publiques de Lot-et-Garonne de 9h à 12h et de 13h30 à 17h30\nSur rendez
 -vous sur www.impots.gouv.fr \nProcadure ICI : https://www.impots.gouv.fr/
 sites/default/files/media/srp/plsu/fiches/08_impots_gouv_fr_prendre_rdv.pd
 f http://www.mairiedefumel.fr/votre-ville/agenda/event/800-permanence-fina
 nces-publiques-impots-des-particuliers
DTSTART:20220926T000000Z
LOCATION:CCAS - Mairie de Fumel (1 place du Château - 47500 Fumel)
SUMMARY:Permanence Finances publiques - impôts des particuliers
URL:http://www.mairiedefumel.fr/votre-ville/agenda/event/800-permanence-fin
 ances-publiques-impots-des-particuliers
END:VEVENT
END:VCALENDAR
