BEGIN:VCALENDAR
VERSION:2.0
PRODID:-//http://www.mairiedefumel.fr///NONSGML kigkonsult.se iCalcreator 2.10.15//
METHOD:PUBLISH
BEGIN:VEVENT
UID:20260421T132827CEST-455571o03v@http://www.mairiedefumel.fr/
DTSTAMP:20260421T112827Z
DESCRIPTION:Permanence des agents de la Direction Départementale des Financ
 es Publiques de Lot-et-Garonneau pendant la campagne de déclaration des re
 venus 2022de 9h à 12h et de 13h30 à 17h30\nSur rendez-vous au 05 53 49 59 
 79 ou 05 53 49 59 65 http://www.mairiedefumel.fr/votre-ville/agenda/event/
 776-permanence-finances-publiques-campagne-de-declaration-des-revenus-2022
DTSTART:20220516T000000Z
LOCATION:Salle du Conseil Municipal (1 Place Georges Escande\, 47500 Fumel\
 , France)
SUMMARY:Permanence Finances publiques : campagne de déclaration des revenus
  2022
URL:http://www.mairiedefumel.fr/votre-ville/agenda/event/776-permanence-fin
 ances-publiques-campagne-de-declaration-des-revenus-2022
END:VEVENT
END:VCALENDAR
